BEGIN:VCALENDAR
VERSION:2.0
PRODID:-//Blandford Forum Camera Club - ECPv6.15.20//NONSGML v1.0//EN
CALSCALE:GREGORIAN
METHOD:PUBLISH
X-ORIGINAL-URL:https://bfcclub.co.uk
X-WR-CALDESC:Events for Blandford Forum Camera Club
REFRESH-INTERVAL;VALUE=DURATION:PT1H
X-Robots-Tag:noindex
X-PUBLISHED-TTL:PT1H
BEGIN:VTIMEZONE
TZID:Europe/London
BEGIN:DAYLIGHT
TZOFFSETFROM:+0000
TZOFFSETTO:+0100
TZNAME:BST
DTSTART:20240331T010000
END:DAYLIGHT
BEGIN:STANDARD
TZOFFSETFROM:+0100
TZOFFSETTO:+0000
TZNAME:GMT
DTSTART:20241027T010000
END:STANDARD
BEGIN:DAYLIGHT
TZOFFSETFROM:+0000
TZOFFSETTO:+0100
TZNAME:BST
DTSTART:20250330T010000
END:DAYLIGHT
BEGIN:STANDARD
TZOFFSETFROM:+0100
TZOFFSETTO:+0000
TZNAME:GMT
DTSTART:20251026T010000
END:STANDARD
BEGIN:DAYLIGHT
TZOFFSETFROM:+0000
TZOFFSETTO:+0100
TZNAME:BST
DTSTART:20260329T010000
END:DAYLIGHT
BEGIN:STANDARD
TZOFFSETFROM:+0100
TZOFFSETTO:+0000
TZNAME:GMT
DTSTART:20261025T010000
END:STANDARD
END:VTIMEZONE
BEGIN:VEVENT
DTSTART;VALUE=DATE:20250601
DTEND;VALUE=DATE:20250602
DTSTAMP:20260420T110132
CREATED:20250520T134609Z
LAST-MODIFIED:20250520T134650Z
UID:8303-1748736000-1748822399@bfcclub.co.uk
SUMMARY:Abbotsbury Swannery and Sub-Tropical Gardens
DESCRIPTION:Abbotsbury Swannery and Sub-Tropical Gardens \nSee Rachel for details all day event
URL:https://bfcclub.co.uk/event/abbotsbury-swannery-and-sub-tropical-gardens/
END:VEVENT
BEGIN:VEVENT
DTSTART;TZID=Europe/London:20250605T190000
DTEND;TZID=Europe/London:20250605T220000
DTSTAMP:20260420T110132
CREATED:20250520T134859Z
LAST-MODIFIED:20250520T134859Z
UID:8306-1749150000-1749160800@bfcclub.co.uk
SUMMARY:Photo Challenge Showing
DESCRIPTION:Photo Challenge Showing @the club house
URL:https://bfcclub.co.uk/event/photo-challenge-showing/
END:VEVENT
BEGIN:VEVENT
DTSTART;TZID=Europe/London:20250610T080000
DTEND;TZID=Europe/London:20250610T170000
DTSTAMP:20260420T110132
CREATED:20250610T134735Z
LAST-MODIFIED:20250610T134735Z
UID:8512-1749542400-1749574800@bfcclub.co.uk
SUMMARY:Saturday 30th May 2026
DESCRIPTION:Saturday 30th May 2026\nAnn\,Exh\, at the Corne Exchange\nOpen at 9.30 Am Till 5.PM
URL:https://bfcclub.co.uk/event/saturday-30th-may-2026/
END:VEVENT
BEGIN:VEVENT
DTSTART;TZID=Europe/London:20250616T193000
DTEND;TZID=Europe/London:20250616T220000
DTSTAMP:20260420T110132
CREATED:20240729T184603Z
LAST-MODIFIED:20240729T184603Z
UID:7944-1750102200-1750111200@bfcclub.co.uk
SUMMARY:16/06/2025 Committee Meeting
DESCRIPTION:16/06/2025 Committee Meeting
URL:https://bfcclub.co.uk/event/16-06-2025-committee-meeting/
END:VEVENT
BEGIN:VEVENT
DTSTART;TZID=Europe/London:20250619T080000
DTEND;TZID=Europe/London:20250619T170000
DTSTAMP:20260420T110132
CREATED:20250520T135224Z
LAST-MODIFIED:20250520T135224Z
UID:8310-1750320000-1750352400@bfcclub.co.uk
SUMMARY:Lundy Residential 24th-26th June
DESCRIPTION:Lundy Residential 24th-26th June
URL:https://bfcclub.co.uk/event/lundy-residential-24th-26th-june/
END:VEVENT
BEGIN:VEVENT
DTSTART;TZID=Europe/London:20250619T193000
DTEND;TZID=Europe/London:20250619T220000
DTSTAMP:20260420T110132
CREATED:20250520T135052Z
LAST-MODIFIED:20250520T135052Z
UID:8308-1750361400-1750370400@bfcclub.co.uk
SUMMARY:Social and Support Group
DESCRIPTION:Social and Support Group
URL:https://bfcclub.co.uk/event/social-and-support-group/
END:VEVENT
END:VCALENDAR