BEGIN:VCALENDAR
VERSION:2.0
PRODID:-//Blandford Forum Camera Club - ECPv6.15.20//NONSGML v1.0//EN
CALSCALE:GREGORIAN
METHOD:PUBLISH
X-WR-CALNAME:Blandford Forum Camera Club
X-ORIGINAL-URL:https://bfcclub.co.uk
X-WR-CALDESC:Events for Blandford Forum Camera Club
REFRESH-INTERVAL;VALUE=DURATION:PT1H
X-Robots-Tag:noindex
X-PUBLISHED-TTL:PT1H
BEGIN:VTIMEZONE
TZID:Europe/London
BEGIN:DAYLIGHT
TZOFFSETFROM:+0000
TZOFFSETTO:+0100
TZNAME:BST
DTSTART:20250330T010000
END:DAYLIGHT
BEGIN:STANDARD
TZOFFSETFROM:+0100
TZOFFSETTO:+0000
TZNAME:GMT
DTSTART:20251026T010000
END:STANDARD
BEGIN:DAYLIGHT
TZOFFSETFROM:+0000
TZOFFSETTO:+0100
TZNAME:BST
DTSTART:20260329T010000
END:DAYLIGHT
BEGIN:STANDARD
TZOFFSETFROM:+0100
TZOFFSETTO:+0000
TZNAME:GMT
DTSTART:20261025T010000
END:STANDARD
BEGIN:DAYLIGHT
TZOFFSETFROM:+0000
TZOFFSETTO:+0100
TZNAME:BST
DTSTART:20270328T010000
END:DAYLIGHT
BEGIN:STANDARD
TZOFFSETFROM:+0100
TZOFFSETTO:+0000
TZNAME:GMT
DTSTART:20271031T010000
END:STANDARD
END:VTIMEZONE
BEGIN:VEVENT
DTSTART;VALUE=DATE:20260316
DTEND;VALUE=DATE:20260321
DTSTAMP:20260421T110449
CREATED:20260104T081046Z
LAST-MODIFIED:20260104T081046Z
UID:8698-1773619200-1774051199@bfcclub.co.uk
SUMMARY:16-20th March 2026- Snowdonia
DESCRIPTION:16-20th March 2026- Snowdonia. \nPlease refer to Roly WhatsApp Message  and Denise’s email for more information.
URL:https://bfcclub.co.uk/event/16-20th-march-2026-snowdonia/
END:VEVENT
BEGIN:VEVENT
DTSTART;TZID=Europe/London:20260317T193000
DTEND;TZID=Europe/London:20260317T220000
DTSTAMP:20260421T110449
CREATED:20250610T051558Z
LAST-MODIFIED:20250610T051558Z
UID:8485-1773775800-1773784800@bfcclub.co.uk
SUMMARY:Tuesday 17th March Prints and Dgital Images to be handed in at the Club House.
DESCRIPTION:Tuesday 17th March Prints and Digital Images to be handed in at the Club House
URL:https://bfcclub.co.uk/event/tuesday-17th-march-prints-and-dgital-images-to-be-handed-in-at-the-club-house/
END:VEVENT
END:VCALENDAR