BEGIN:VCALENDAR
VERSION:2.0
PRODID:-//Blandford Forum Camera Club - ECPv6.15.20//NONSGML v1.0//EN
CALSCALE:GREGORIAN
METHOD:PUBLISH
X-WR-CALNAME:Blandford Forum Camera Club
X-ORIGINAL-URL:https://bfcclub.co.uk
X-WR-CALDESC:Events for Blandford Forum Camera Club
REFRESH-INTERVAL;VALUE=DURATION:PT1H
X-Robots-Tag:noindex
X-PUBLISHED-TTL:PT1H
BEGIN:VTIMEZONE
TZID:Europe/London
BEGIN:DAYLIGHT
TZOFFSETFROM:+0000
TZOFFSETTO:+0100
TZNAME:BST
DTSTART:20240331T010000
END:DAYLIGHT
BEGIN:STANDARD
TZOFFSETFROM:+0100
TZOFFSETTO:+0000
TZNAME:GMT
DTSTART:20241027T010000
END:STANDARD
BEGIN:DAYLIGHT
TZOFFSETFROM:+0000
TZOFFSETTO:+0100
TZNAME:BST
DTSTART:20250330T010000
END:DAYLIGHT
BEGIN:STANDARD
TZOFFSETFROM:+0100
TZOFFSETTO:+0000
TZNAME:GMT
DTSTART:20251026T010000
END:STANDARD
BEGIN:DAYLIGHT
TZOFFSETFROM:+0000
TZOFFSETTO:+0100
TZNAME:BST
DTSTART:20260329T010000
END:DAYLIGHT
BEGIN:STANDARD
TZOFFSETFROM:+0100
TZOFFSETTO:+0000
TZNAME:GMT
DTSTART:20261025T010000
END:STANDARD
END:VTIMEZONE
BEGIN:VEVENT
DTSTART;TZID=Europe/London:20251104T193000
DTEND;TZID=Europe/London:20251104T220000
DTSTAMP:20260424T110901
CREATED:20250526T072327Z
LAST-MODIFIED:20250526T072327Z
UID:8366-1762284600-1762293600@bfcclub.co.uk
SUMMARY:Tuesday November 4th 2025 Points Cup No2
DESCRIPTION:Tuesday November 4th 2025 Points Cup No2. Prints/Mono/Colour/Digital Images\nJudge Mike Weeks
URL:https://bfcclub.co.uk/event/tuesday-november-4th-2025-points-cup-no2/
END:VEVENT
BEGIN:VEVENT
DTSTART;TZID=Europe/London:20251104T193000
DTEND;TZID=Europe/London:20251104T220000
DTSTAMP:20260424T110901
CREATED:20250527T052706Z
LAST-MODIFIED:20250527T053505Z
UID:8435-1762284600-1762293600@bfcclub.co.uk
SUMMARY:Tuesday 4th November 2025 Points Cup No2 Prints/Mono/Colour/Digital Images.
DESCRIPTION:Tuesday 4th November 2025 Points Cup No2 Prints/Mono/Colour/Digital Images.\n This is a Themed evening.\nTheme for Prints IE: Close Up\nTheme for Digital Images IE:OPEN\nJudge Mike Weeks
URL:https://bfcclub.co.uk/event/tuesday-4th-november-2025-points-cup-no2-prints-mono-colour-digital-images/
END:VEVENT
END:VCALENDAR