BEGIN:VCALENDAR
VERSION:2.0
PRODID:-//Blandford Forum Camera Club - ECPv6.15.20//NONSGML v1.0//EN
CALSCALE:GREGORIAN
METHOD:PUBLISH
X-ORIGINAL-URL:https://bfcclub.co.uk
X-WR-CALDESC:Events for Blandford Forum Camera Club
REFRESH-INTERVAL;VALUE=DURATION:PT1H
X-Robots-Tag:noindex
X-PUBLISHED-TTL:PT1H
BEGIN:VTIMEZONE
TZID:Europe/London
BEGIN:DAYLIGHT
TZOFFSETFROM:+0000
TZOFFSETTO:+0100
TZNAME:BST
DTSTART:20240331T010000
END:DAYLIGHT
BEGIN:STANDARD
TZOFFSETFROM:+0100
TZOFFSETTO:+0000
TZNAME:GMT
DTSTART:20241027T010000
END:STANDARD
BEGIN:DAYLIGHT
TZOFFSETFROM:+0000
TZOFFSETTO:+0100
TZNAME:BST
DTSTART:20250330T010000
END:DAYLIGHT
BEGIN:STANDARD
TZOFFSETFROM:+0100
TZOFFSETTO:+0000
TZNAME:GMT
DTSTART:20251026T010000
END:STANDARD
BEGIN:DAYLIGHT
TZOFFSETFROM:+0000
TZOFFSETTO:+0100
TZNAME:BST
DTSTART:20260329T010000
END:DAYLIGHT
BEGIN:STANDARD
TZOFFSETFROM:+0100
TZOFFSETTO:+0000
TZNAME:GMT
DTSTART:20261025T010000
END:STANDARD
END:VTIMEZONE
BEGIN:VEVENT
DTSTART;TZID=Europe/London:20250923T193000
DTEND;TZID=Europe/London:20250923T220000
DTSTAMP:20260422T150256
CREATED:20250515T134510Z
LAST-MODIFIED:20250516T091603Z
UID:8287-1758655800-1758664800@bfcclub.co.uk
SUMMARY:Guest Speaker " Stewart Wood" Via Zoom on the 23/09/2025
DESCRIPTION:Guest Speaker ” Stewart Wood” Via Zoom on September 23rd 20025 \nStewart Wood  Will be giving a talk on Macro . \ni Have looked at his website and his images are fantastic.
URL:https://bfcclub.co.uk/event/guest-speaker-stewart-wood-via-zoom-on-the-23-09-2025/
ATTACH;FMTTYPE=image/jpeg:https://bfcclub.co.uk/wp-content/uploads/2025/05/thumbnail_Jumping-spider.jpg
END:VEVENT
END:VCALENDAR