BEGIN:VCALENDAR
VERSION:2.0
PRODID:-//Blandford Forum Camera Club - ECPv6.15.20//NONSGML v1.0//EN
CALSCALE:GREGORIAN
METHOD:PUBLISH
X-ORIGINAL-URL:https://bfcclub.co.uk
X-WR-CALDESC:Events for Blandford Forum Camera Club
REFRESH-INTERVAL;VALUE=DURATION:PT1H
X-Robots-Tag:noindex
X-PUBLISHED-TTL:PT1H
BEGIN:VTIMEZONE
TZID:Europe/London
BEGIN:DAYLIGHT
TZOFFSETFROM:+0000
TZOFFSETTO:+0100
TZNAME:BST
DTSTART:20240331T010000
END:DAYLIGHT
BEGIN:STANDARD
TZOFFSETFROM:+0100
TZOFFSETTO:+0000
TZNAME:GMT
DTSTART:20241027T010000
END:STANDARD
BEGIN:DAYLIGHT
TZOFFSETFROM:+0000
TZOFFSETTO:+0100
TZNAME:BST
DTSTART:20250330T010000
END:DAYLIGHT
BEGIN:STANDARD
TZOFFSETFROM:+0100
TZOFFSETTO:+0000
TZNAME:GMT
DTSTART:20251026T010000
END:STANDARD
BEGIN:DAYLIGHT
TZOFFSETFROM:+0000
TZOFFSETTO:+0100
TZNAME:BST
DTSTART:20260329T010000
END:DAYLIGHT
BEGIN:STANDARD
TZOFFSETFROM:+0100
TZOFFSETTO:+0000
TZNAME:GMT
DTSTART:20261025T010000
END:STANDARD
END:VTIMEZONE
BEGIN:VEVENT
DTSTART;TZID=Europe/London:20250522T193000
DTEND;TZID=Europe/London:20250522T220000
DTSTAMP:20260420T110040
CREATED:20250322T114343Z
LAST-MODIFIED:20250322T114400Z
UID:8246-1747942200-1747951200@bfcclub.co.uk
SUMMARY:LRCB_No5 May22nd 2025
DESCRIPTION:LRCB_No5 May22nd 2025\n.Organising the Photo Library using Smart Collections \,Keywords and Metadata-Part 2\n.importing photos from a Memory Card into into lightroom Classic Library-Part 2\n.Using the Library Grid view to View to renew\, pick and discard photos (from ingested Memory Card )\n.Edit” Picked” photo in Develop Module\n.What is a Preset and how to use it \nNOTE. Each attendee will be asked to bring in a memory card to be used in LRCB_5
URL:https://bfcclub.co.uk/event/lrcb_no5-may22nd-2025/
END:VEVENT
BEGIN:VEVENT
DTSTART;TZID=Europe/London:20250522T193000
DTEND;TZID=Europe/London:20250522T220000
DTSTAMP:20260420T110040
CREATED:20250520T131618Z
LAST-MODIFIED:20250520T131618Z
UID:8295-1747942200-1747951200@bfcclub.co.uk
SUMMARY:LR Classic Basics
DESCRIPTION:LR Classic Basics
URL:https://bfcclub.co.uk/event/lr-classic-basics/
END:VEVENT
END:VCALENDAR