BEGIN:VCALENDAR
VERSION:2.0
PRODID:-//Blandford Forum Camera Club - ECPv6.15.20//NONSGML v1.0//EN
CALSCALE:GREGORIAN
METHOD:PUBLISH
X-ORIGINAL-URL:https://bfcclub.co.uk
X-WR-CALDESC:Events for Blandford Forum Camera Club
REFRESH-INTERVAL;VALUE=DURATION:PT1H
X-Robots-Tag:noindex
X-PUBLISHED-TTL:PT1H
BEGIN:VTIMEZONE
TZID:Europe/London
BEGIN:DAYLIGHT
TZOFFSETFROM:+0000
TZOFFSETTO:+0100
TZNAME:BST
DTSTART:20240331T010000
END:DAYLIGHT
BEGIN:STANDARD
TZOFFSETFROM:+0100
TZOFFSETTO:+0000
TZNAME:GMT
DTSTART:20241027T010000
END:STANDARD
BEGIN:DAYLIGHT
TZOFFSETFROM:+0000
TZOFFSETTO:+0100
TZNAME:BST
DTSTART:20250330T010000
END:DAYLIGHT
BEGIN:STANDARD
TZOFFSETFROM:+0100
TZOFFSETTO:+0000
TZNAME:GMT
DTSTART:20251026T010000
END:STANDARD
BEGIN:DAYLIGHT
TZOFFSETFROM:+0000
TZOFFSETTO:+0100
TZNAME:BST
DTSTART:20260329T010000
END:DAYLIGHT
BEGIN:STANDARD
TZOFFSETFROM:+0100
TZOFFSETTO:+0000
TZNAME:GMT
DTSTART:20261025T010000
END:STANDARD
END:VTIMEZONE
BEGIN:VEVENT
DTSTART;TZID=Europe/London:20250520T193000
DTEND;TZID=Europe/London:20250520T220000
DTSTAMP:20260420T113655
CREATED:20240729T054356Z
LAST-MODIFIED:20250212T194738Z
UID:7926-1747769400-1747778400@bfcclub.co.uk
SUMMARY:20/05/2025 Presentation Awards also  we have moved Mil and Rachel's Knockout competition to be run after the awards Presentation .
DESCRIPTION:20/05/2025 Presentation Awards also  we have moved Mil and Rachel’s Knockout competition to be run after the awards Presentation .\nOf The Points Cup/ POTY Cup /and the Fred Denham Cup
URL:https://bfcclub.co.uk/event/20-05-2025-presentation-awards/
END:VEVENT
END:VCALENDAR